BEGIN:VCALENDAR
VERSION:2.0
PRODID:-//VMUG - ECPv6.15.20//NONSGML v1.0//EN
CALSCALE:GREGORIAN
METHOD:PUBLISH
X-ORIGINAL-URL:https://vmug.bc.ca
X-WR-CALDESC:Events for VMUG
REFRESH-INTERVAL;VALUE=DURATION:PT1H
X-Robots-Tag:noindex
X-PUBLISHED-TTL:PT1H
BEGIN:VTIMEZONE
TZID:UTC
BEGIN:STANDARD
TZOFFSETFROM:+0000
TZOFFSETTO:+0000
TZNAME:UTC
DTSTART:20200101T000000
END:STANDARD
END:VTIMEZONE
BEGIN:VEVENT
DTSTART;TZID=UTC:20210828T103000
DTEND;TZID=UTC:20210828T120000
DTSTAMP:20260419T062515
CREATED:20210730T075845Z
LAST-MODIFIED:20210730T075845Z
UID:118133-1630146600-1630152000@vmug.bc.ca
SUMMARY:Sidney SIG
DESCRIPTION:TBA
URL:https://vmug.bc.ca/event/sidney-sig/
LOCATION:On line via Zoom
END:VEVENT
END:VCALENDAR